BEGIN:VCALENDAR
VERSION:2.0
PRODID:-//wp-events-plugin.com//7.2.3.1//EN
TZID:Europe/Berlin
X-WR-TIMEZONE:Europe/Berlin
BEGIN:VEVENT
UID:6-3403@frauenbund-noeham.de
DTSTART;TZID=Europe/Berlin:20221214T190000
DTEND;TZID=Europe/Berlin:20221214T220000
DTSTAMP:20221031T162021Z
URL:https://frauenbund-noeham.de/termine/adventsfeier-2/
SUMMARY:Adventsfeier
DESCRIPTION:Wir beginnen um 19 Uhr mit einer Andacht in der Kirche
CATEGORIES:Frauenbund Nöham
LOCATION:\, \, 
GEO:48.4817682;12.903215000000046
X-APPLE-STRUCTURED-LOCATION;VALUE=URI;X-ADDRESS=\, ;X-APPLE-RADIUS=100;X-TI
 TLE=:geo:48.4817682,12.903215000000046
END:VEVENT
BEGIN:VTIMEZONE
TZID:Europe/Berlin
X-LIC-LOCATION:Europe/Berlin
BEGIN:STANDARD
DTSTART:20221030T020000
TZOFFSETFROM:+0200
TZOFFSETTO:+0100
TZNAME:CET
END:STANDARD
END:VTIMEZONE
END:VCALENDAR