BEGIN:VCALENDAR
VERSION:2.0
PRODID:-//wp-events-plugin.com//7.2.3.1//EN
TZID:Europe/Berlin
X-WR-TIMEZONE:Europe/Berlin
BEGIN:VEVENT
UID:6-618@frauenbund-noeham.de
DTSTART;TZID=Europe/Berlin:20161114T193000
DTEND;TZID=Europe/Berlin:20161114T230000
DTSTAMP:20160729T185759Z
URL:https://frauenbund-noeham.de/termine/bastelbeginn-fuer-advents-u-weihn
 achtsbasar/
SUMMARY:Bastelbeginn für Advents- u. Weihnachtsbasar
DESCRIPTION:
CATEGORIES:Frauenbund Nöham
LOCATION:\, \, 
GEO:48.4817682;12.903215000000046
X-APPLE-STRUCTURED-LOCATION;VALUE=URI;X-ADDRESS=\, ;X-APPLE-RADIUS=100;X-TI
 TLE=:geo:48.4817682,12.903215000000046
END:VEVENT
BEGIN:VTIMEZONE
TZID:Europe/Berlin
X-LIC-LOCATION:Europe/Berlin
BEGIN:STANDARD
DTSTART:20161030T020000
TZOFFSETFROM:+0200
TZOFFSETTO:+0100
TZNAME:CET
END:STANDARD
END:VTIMEZONE
END:VCALENDAR