BEGIN:VCALENDAR
VERSION:2.0
PRODID:-//wp-events-plugin.com//7.2.3.1//EN
TZID:Europe/Berlin
X-WR-TIMEZONE:Europe/Berlin
BEGIN:VEVENT
UID:6-3959@frauenbund-noeham.de
DTSTART;TZID=Europe/Berlin:20241125T190000
DTEND;TZID=Europe/Berlin:20241125T230000
DTSTAMP:20241028T090202Z
URL:https://frauenbund-noeham.de/termine/basteln-fuer-den-adventsbasar-im-
 pfarrsaal/
SUMMARY:Basteln für den Adventsbasar im Pfarrsaal
DESCRIPTION:
CATEGORIES:Frauenbund Nöham
END:VEVENT
BEGIN:VTIMEZONE
TZID:Europe/Berlin
X-LIC-LOCATION:Europe/Berlin
BEGIN:STANDARD
DTSTART:20241027T020000
TZOFFSETFROM:+0200
TZOFFSETTO:+0100
TZNAME:CET
END:STANDARD
END:VTIMEZONE
END:VCALENDAR