BEGIN:VCALENDAR
VERSION:2.0
PRODID:-//wp-events-plugin.com//7.2.3.1//EN
TZID:Europe/Berlin
X-WR-TIMEZONE:Europe/Berlin
BEGIN:VEVENT
UID:6-1106@frauenbund-noeham.de
DTSTART;TZID=Europe/Berlin:20170917T160000
DTEND;TZID=Europe/Berlin:20170917T170000
DTSTAMP:20170808T165506Z
URL:https://frauenbund-noeham.de/termine/ewige-anbetung-2/
SUMMARY:Ewige Anbetung
DESCRIPTION:Wir gestalten eine Anbetungsstunde und laden alle zum Mitbeten 
 ein.
CATEGORIES:Frauenbund Nöham
LOCATION:Pfarrkirche St. Nikolaus\, Ludwig-Mitterer-Straße\, Nöham\, Deut
 schland
GEO:48.4814553;12.901641299999937
X-APPLE-STRUCTURED-LOCATION;VALUE=URI;X-ADDRESS=Ludwig-Mitterer-Straße\, N
 öham\, Deutschland;X-APPLE-RADIUS=100;X-TITLE=Pfarrkirche St. Nikolaus:ge
 o:48.4814553,12.901641299999937
END:VEVENT
BEGIN:VTIMEZONE
TZID:Europe/Berlin
X-LIC-LOCATION:Europe/Berlin
BEGIN:DAYLIGHT
DTSTART:20170326T030000
TZOFFSETFROM:+0100
TZOFFSETTO:+0200
TZNAME:CEST
END:DAYLIGHT
END:VTIMEZONE
END:VCALENDAR