BEGIN:VCALENDAR
VERSION:2.0
PRODID:-//wp-events-plugin.com//7.2.3.1//EN
TZID:Europe/Berlin
X-WR-TIMEZONE:Europe/Berlin
BEGIN:VEVENT
UID:6-1051@frauenbund-noeham.de
DTSTART;TZID=Europe/Berlin:20170601T150000
DTEND;TZID=Europe/Berlin:20170601T220000
DTSTAMP:20170502T170919Z
URL:https://frauenbund-noeham.de/termine/kinoabend-im-scharfrichterkino-in
 -passau/
SUMMARY:Kinoabend im Scharfrichterkino in Passau
DESCRIPTION:Um 19.00 Uhr läuft die romantische Liebeskomödie „Birnenkuc
 hen mit Lavendel“. Es sind 15 Karten für uns zum Preis von je 6 Euro re
 serviert. Abfahrt ist um 15.00 Uhr am Dorfplatz in Nöham. Die Zeit bis zu
 m Beginn der Filmvorstellung kann individuell genutzt werden. Es werden Fa
 hrgemeinschaften gebildet und ein kleiner Unkostenbeitrag wird für die Fa
 hrer erhoben. Anmeldung bis spätestens 24.05.2017  bei Maria Blöchl 087
 26/1043.
CATEGORIES:Frauenbund Nöham
LOCATION:Scharfrichterkino\, Milchgasse 2\, 94032 Passau\, Deutschland
GEO:48.57476;13.469420000000014
X-APPLE-STRUCTURED-LOCATION;VALUE=URI;X-ADDRESS=Milchgasse 2\, 94032 Passau
 \, Deutschland;X-APPLE-RADIUS=100;X-TITLE=Scharfrichterkino:geo:48.57476,1
 3.469420000000014
END:VEVENT
BEGIN:VTIMEZONE
TZID:Europe/Berlin
X-LIC-LOCATION:Europe/Berlin
BEGIN:DAYLIGHT
DTSTART:20170326T030000
TZOFFSETFROM:+0100
TZOFFSETTO:+0200
TZNAME:CEST
END:DAYLIGHT
END:VTIMEZONE
END:VCALENDAR