BEGIN:VCALENDAR
VERSION:2.0
PRODID:-//wp-events-plugin.com//7.2.3.1//EN
TZID:Europe/Berlin
X-WR-TIMEZONE:Europe/Berlin
BEGIN:VEVENT
UID:6-3076@frauenbund-noeham.de
DTSTART;TZID=Europe/Berlin:20200202T090000
DTEND;TZID=Europe/Berlin:20200202T150000
DTSTAMP:20200130T091924Z
URL:https://frauenbund-noeham.de/termine/kirchl-installation-von-pfarrer-w
 eigl/
SUMMARY:Kirchl. Installation von Pfarrer Weigl
DESCRIPTION:Festzug mit allen Vereinen/Fahnen bei der Stockschützenhalle D
 ietersburg. Anschließend Gottesdienst und Mittagstisch im Gasthaus Händl
 maier. Die Veranstaltung endet mit einer Andacht um 15 Uhr
CATEGORIES:Frauenbund Nöham
LOCATION:\, \, 
GEO:48.494473;12.931759000000056
X-APPLE-STRUCTURED-LOCATION;VALUE=URI;X-ADDRESS=\, ;X-APPLE-RADIUS=100;X-TI
 TLE=:geo:48.494473,12.931759000000056
END:VEVENT
BEGIN:VTIMEZONE
TZID:Europe/Berlin
X-LIC-LOCATION:Europe/Berlin
BEGIN:STANDARD
DTSTART:20191027T020000
TZOFFSETFROM:+0200
TZOFFSETTO:+0100
TZNAME:CET
END:STANDARD
END:VTIMEZONE
END:VCALENDAR