BEGIN:VCALENDAR
VERSION:2.0
PRODID:-//wp-events-plugin.com//7.2.3.1//EN
TZID:Europe/Berlin
X-WR-TIMEZONE:Europe/Berlin
BEGIN:VEVENT
UID:6-1052@frauenbund-noeham.de
DTSTART;TZID=Europe/Berlin:20170716T093000
DTEND;TZID=Europe/Berlin:20170716T170000
DTSTAMP:20170502T171219Z
URL:https://frauenbund-noeham.de/termine/xperbike-sternfahrt-nach-eggenfel
 den/
SUMMARY:XperBike Sternfahrt nach Eggenfelden
DESCRIPTION:Treffpunkt 9.30 Uhr bei der Stockschützenhalle in Nöham. Die 
 Strecke führt über Neuhofen -Schmalzgrub-Linden-Eggenfelden. Wer dazu no
 ch ein T-Shirt benötigt bitte bei Maria Blöchl bestellen 08726/1043.\n\n
 Veranstalter ist die Gemeinde Dietersburg.
CATEGORIES:Frauenbund Nöham
END:VEVENT
BEGIN:VTIMEZONE
TZID:Europe/Berlin
X-LIC-LOCATION:Europe/Berlin
BEGIN:DAYLIGHT
DTSTART:20170326T030000
TZOFFSETFROM:+0100
TZOFFSETTO:+0200
TZNAME:CEST
END:DAYLIGHT
END:VTIMEZONE
END:VCALENDAR